BEGIN:VCALENDAR
VERSION:2.0
PRODID:-//Tukios.com/
BEGIN:VEVENT
UID:234f7d19-c438-430c-a126-f93a381f889f@www.normanfuneralhome.net
DTSTAMP:20260425T230724Z
DTSTART:20260427T200000Z
DTEND:20260427T230000Z
SUMMARY:Visitation
DESCRIPTION:
URL:https://www.normanfuneralhome.net/obituaries/mark-metcalf
LOCATION:Norman Funeral Home 604 Main St.  Hope IN 47246
GEO:39.3030514;-85.7718308
END:VEVENT
END:VCALENDAR