BEGIN:VCALENDAR
VERSION:2.0
PRODID:-//Tukios.com/
BEGIN:VEVENT
UID:75394c5a-741d-478d-9701-f7aa027a1cf4@www.normanfuneralhome.net
DTSTAMP:20260425T230319Z
DTSTART:20260427T230000Z
DTEND:20260428T000000Z
SUMMARY:Funeral Service
DESCRIPTION:
URL:https://www.normanfuneralhome.net/obituaries/mark-metcalf
LOCATION:Norman Funeral Home 604 Main St.  Hope IN 47246
GEO:39.3030514;-85.7718308
END:VEVENT
END:VCALENDAR